BEGIN:VCALENDAR
VERSION:2.0
PRODID:-//Les randonneurs du Saguenay - ECPv6.11.2//NONSGML v1.0//EN
CALSCALE:GREGORIAN
METHOD:PUBLISH
X-WR-CALNAME:Les randonneurs du Saguenay
X-ORIGINAL-URL:https://randonneursdusaguenay.qc.ca
X-WR-CALDESC:Évènements pour Les randonneurs du Saguenay
REFRESH-INTERVAL;VALUE=DURATION:PT1H
X-Robots-Tag:noindex
X-PUBLISHED-TTL:PT1H
BEGIN:VTIMEZONE
TZID:America/New_York
BEGIN:DAYLIGHT
TZOFFSETFROM:-0500
TZOFFSETTO:-0400
TZNAME:EDT
DTSTART:20250309T070000
END:DAYLIGHT
BEGIN:STANDARD
TZOFFSETFROM:-0400
TZOFFSETTO:-0500
TZNAME:EST
DTSTART:20251102T060000
END:STANDARD
END:VTIMEZONE
BEGIN:VEVENT
DTSTART;TZID=America/New_York:20251116T093000
DTEND;TZID=America/New_York:20251116T120000
DTSTAMP:20260422T052631
CREATED:20250929T171800Z
LAST-MODIFIED:20251016T195100Z
UID:10000199-1763285400-1763294400@randonneursdusaguenay.qc.ca
SUMMARY:Brunch annuel des Randonneurs du Saguenay
DESCRIPTION:
URL:https://randonneursdusaguenay.qc.ca/activite/brunch-annuel-des-randonneurs-du-saguenay-16-novembre-2025-9h30/
CATEGORIES:Autre
END:VEVENT
BEGIN:VEVENT
DTSTART;TZID=America/New_York:20251101T100000
DTEND;TZID=America/New_York:20251101T130000
DTSTAMP:20260422T052631
CREATED:20251016T194845Z
LAST-MODIFIED:20251016T195035Z
UID:10000200-1761991200-1762002000@randonneursdusaguenay.qc.ca
SUMMARY:Activité de socialisation - Pulperie de Chicoutimi
DESCRIPTION:
URL:https://randonneursdusaguenay.qc.ca/activite/activite-de-socialisation-pulperie-de-chicoutimi-samedi-le-1er-novembre-2025-10h/
CATEGORIES:Autre
END:VEVENT
END:VCALENDAR